BEGIN:VCALENDAR
VERSION:2.0
PRODID:-//Provence verte - ECPv6.15.20//NONSGML v1.0//EN
CALSCALE:GREGORIAN
METHOD:PUBLISH
X-WR-CALNAME:Provence verte
X-ORIGINAL-URL:https://www.caprovenceverte.fr
X-WR-CALDESC:Évènements pour Provence verte
REFRESH-INTERVAL;VALUE=DURATION:PT1H
X-Robots-Tag:noindex
X-PUBLISHED-TTL:PT1H
BEGIN:VTIMEZONE
TZID:Europe/Paris
BEGIN:DAYLIGHT
TZOFFSETFROM:+0100
TZOFFSETTO:+0200
TZNAME:CEST
DTSTART:20250330T010000
END:DAYLIGHT
BEGIN:STANDARD
TZOFFSETFROM:+0200
TZOFFSETTO:+0100
TZNAME:CET
DTSTART:20251026T010000
END:STANDARD
BEGIN:DAYLIGHT
TZOFFSETFROM:+0100
TZOFFSETTO:+0200
TZNAME:CEST
DTSTART:20260329T010000
END:DAYLIGHT
BEGIN:STANDARD
TZOFFSETFROM:+0200
TZOFFSETTO:+0100
TZNAME:CET
DTSTART:20261025T010000
END:STANDARD
BEGIN:DAYLIGHT
TZOFFSETFROM:+0100
TZOFFSETTO:+0200
TZNAME:CEST
DTSTART:20270328T010000
END:DAYLIGHT
BEGIN:STANDARD
TZOFFSETFROM:+0200
TZOFFSETTO:+0100
TZNAME:CET
DTSTART:20271031T010000
END:STANDARD
BEGIN:DAYLIGHT
TZOFFSETFROM:+0100
TZOFFSETTO:+0200
TZNAME:CEST
DTSTART:20280326T010000
END:DAYLIGHT
BEGIN:STANDARD
TZOFFSETFROM:+0200
TZOFFSETTO:+0100
TZNAME:CET
DTSTART:20281029T010000
END:STANDARD
END:VTIMEZONE
BEGIN:VEVENT
DTSTART;TZID=Europe/Paris:20260410T000000
DTEND;TZID=Europe/Paris:20260411T000000
DTSTAMP:20260422T011215
CREATED:20260402T145606Z
LAST-MODIFIED:20260402T145606Z
UID:26005-1775779200-1775865600@www.caprovenceverte.fr
SUMMARY:"L'acteur\, ça se saurait s'il servait à quelque chose !"
DESCRIPTION:Les élèves du Conservatoire Intercommunal de la Provence verte présentent un spectacle théâtral en deux représentations\, les 10 et 11 avril 2025\, entre rires et réflexion sur le métier de la scène.\nAvec la pièce « L’acteur\, ça se saurait s’il servait à quelque chose ! » de Pierre Notte\, les jeunes comédiens du Conservatoire Intercommunal de la Provence verte investissent deux scènes du territoire pour un rendez-vous théâtral teinté d’ironie et d’humour. \nDeux représentations sont programmées :  \n📍Vendredi 10 avril 2026 à 20h30 – Conservatoire Intercommunal de la Provence verte\, site de Brignoles – Auditorium des Ursulines\n📍Samedi 11 avril 2026 à 19h — La Croisée des Arts\, Saint-Maximin-la-Sainte-Baume\nℹ️ Entrée libre sur réservation au 04 81 06 11 61
URL:https://www.caprovenceverte.fr/event/lacteur-ca-se-saurait-sil-servait-a-quelque-chose/
CATEGORIES:À la une,Agenda,Culture
ATTACH;FMTTYPE=image/jpeg:https://www.caprovenceverte.fr/wp-content/uploads/2026/03/CIPV-Spectacles-theatre-260410-AfficheA3-web-scaled.jpg
END:VEVENT
BEGIN:VEVENT
DTSTART;TZID=Europe/Paris:20260410T203000
DTEND;TZID=Europe/Paris:20260410T220000
DTSTAMP:20260422T011215
CREATED:20260323T073409Z
LAST-MODIFIED:20260407T065612Z
UID:25940-1775853000-1775858400@www.caprovenceverte.fr
SUMMARY:Bienvenue au club - Festival Les Nuits du Château
DESCRIPTION:Les Nuits du Château\, organisées par Artscénicum Théâtre à Montfort-sur-Argens traditionnellement au mois d’août\, auront lieu cette année au printemps : les 10\, 11 et 12 avril 2026\,  et cette 28e édition du festival sera placée sous le signe du rire ! Une programmation soutenue par l’Agglomération Provence verte\, dans le cadre de l’Appel à Projets Culture.\n\nBienvenue au Club\nVendredi 10 avril 2026 | 20 h 30\nEspace André Paul • Montfort-sur-Argens\nGérard Dubouche nous raconte sa rencontre\, son mariage\, son divorce\, sa déprime et son nouveau départ… Seul en scène et virtuose\, il compose des situations hilarantes\, des personnages loufoques\, alliant le réel à l’imaginaire nous fait exploser de rire. Son histoire nous touche cependant\, nous émeut car chacun peut s’y reconnaître pour en avoir été\, un jour ou l’autre\, acteur ou témoin. Du beau divertissement\, du grand art assurément ! \nComédien depuis plus de 35 ans\, il excelle au théâtre (prix du meilleur comédien au festival d’Anjou avec Les Pieds Tanqués) et au cinéma (Les Collègues\, La Grande Vie\, Travail d’Arabe). Son seul en scène Bienvenue au club est salué pour son humour dévastateur. \n« Un époustouflant one-man-show\, un extraordinaire comédien ! » Var Matin \n« Gérard endosse\, dans un corps à corps presque schizophrénique\, la peau des personnages qui ont croisé sa route\, une galerie de portrait plus vraie que nature. Hilarant ! » Nice Matin \nDe et avec Gérard Dubouche\nCo-écrit avec Didier Landucci \n\nℹ️ Infos pratiques\n\nTarif plein : 12 €\nTarif  groupe et adhérents : 8 €\nTarif Minima sociaux et étudiants : 4 €\nTarif PASS : 25 € (Un tarif préférentiel pour voir les 3 spectacles du festival)\n-12 ans : Gratuit\n\n👉🏻 Billetterie\n\nEn ligne\nSur place : 1 heure avant le spectacle\nPar téléphone : 06 03 82 45 27\nPar email : contact@artscenicum.fr\n\n👉🏻 Buvette et grignotage sur place\n👉🏻 Bienvenue au Club – Billetterie en ligne \n👉🏻 Achetez en ligne votre PASS 3 spectacles
URL:https://www.caprovenceverte.fr/event/bienvenue-au-club-festival-les-nuits-du-chateau/
LOCATION:Montfort-sur-Argens\, Montfort-sur-Argens\, 83570\, France
CATEGORIES:À la une,Agenda,Culture
ATTACH;FMTTYPE=image/jpeg:https://www.caprovenceverte.fr/wp-content/uploads/2026/03/affiche_ndc_spectacle26__1-scaled.jpg
END:VEVENT
BEGIN:VEVENT
DTSTART;TZID=Europe/Paris:20260411T203000
DTEND;TZID=Europe/Paris:20260411T220000
DTSTAMP:20260422T011215
CREATED:20260323T073335Z
LAST-MODIFIED:20260407T070530Z
UID:25943-1775939400-1775944800@www.caprovenceverte.fr
SUMMARY:Comédiennes\, Un duo qui taquine nos grands auteurs - Festival Les Nuits du Château
DESCRIPTION:Les Nuits du Château\, organisées par Artscénicum Théâtre à Montfort-sur-Argens traditionnellement au mois d’août\, auront lieu cette année au printemps : les 10\, 11 et 12 avril 2026\,  et cette 28e édition du festival sera placée sous le signe du rire ! Une programmation soutenue par l’Agglomération Provence verte\, dans le cadre de l’Appel à Projets Culture.\n\nComédiennes\, Un duo qui taquine nos grands auteurs\nSamedi 11 avril 2026 | 20 h 30\nEspace André Paul • Montfort-sur-Argens\nSarah et Vanina s’emparent avec verve et humour de dialogues célèbres : de Molière à Topor en passant par Racine\, Hugo\, Courteline\, Anouilh\, avec un clin d’œil à Olympe de Gouge\, elles s’interrogent et nous éclairent sur la place de la femme vue par ces grands auteurs. Un spectacle qui parcourt avec un œil amusé et neuf ces beaux échantillons de notre littérature dramatique… masculine. Et qui célèbrent malgré tout des femmes éprises de liberté et dont les mots raisonnent encore avec modernité. \n« Voici un duo mordant qui revisite\, avec audace et humour\, les grands textes du théâtre français à travers le prisme de la condition féminine. » La Provence \n« Un duo Désopilant […] une confrontation joyeuse et polymorphe emplie d’humour\, de burlesque et d’émotion. » Nice Matin \nConception\, interprétation : Sarah Bensoussan\, Vanina Delannoy\nCollaboration à la mise en scène : Elsa Tauveron-Wexler\nCréation lumière et son : Eylan Martz\nCollaborations artistiques : Philippe Machu\, Philippe Martz\nCie Clair-Obscur\, Cie Mammifères Marrants \n\nℹ️ Infos pratiques\n\nTarif plein : 12 €\nTarif  groupe et adhérents : 8 €\nTarif Minima sociaux et étudiants : 4 €\nTarif PASS : 25 € (Un tarif préférentiel pour voir les 3 spectacles du festival)\n-12 ans : Gratuit\n\n👉🏻 Billetterie\n\nEn ligne\nSur place : 1 heure avant le spectacle\nPar téléphone : 06 03 82 45 27\nPar email : contact@artscenicum.fr\n\n👉🏻 Buvette et grignotage sur place\n👉🏻 Comédiennes – Billetterie en ligne \n👉🏻 Achetez en ligne votre PASS 3 spectacles
URL:https://www.caprovenceverte.fr/event/comediennes-un-duo-qui-taquine-nos-grands-auteurs-festival-les-nuits-du-chateau/
LOCATION:Montfort-sur-Argens\, Montfort-sur-Argens\, 83570\, France
CATEGORIES:À la une,Agenda,Culture
ATTACH;FMTTYPE=image/jpeg:https://www.caprovenceverte.fr/wp-content/uploads/2026/03/affiche_ndc_spectacle26__2-scaled.jpg
END:VEVENT
BEGIN:VEVENT
DTSTART;TZID=Europe/Paris:20260412T180000
DTEND;TZID=Europe/Paris:20260412T193000
DTSTAMP:20260422T011215
CREATED:20260323T073444Z
LAST-MODIFIED:20260407T070457Z
UID:25947-1776016800-1776022200@www.caprovenceverte.fr
SUMMARY:Chez lui - Festival Les Nuits du Château
DESCRIPTION:Les Nuits du Château\, organisées par Artscénicum Théâtre à Montfort-sur-Argens traditionnellement au mois d’août\, auront lieu cette année au printemps : les 10\, 11 et 12 avril 2026\,  et cette 28e édition du festival sera placée sous le signe du rire ! Une programmation soutenue par l’Agglomération Provence verte\, dans le cadre de l’Appel à Projets Culture.\n\nChez lui\nDimanche 12 avril 2026 | 18 h\nEspace André Paul • Montfort-sur-Argens\nPatrik Cottet-Moine\, mime-bruiteur mondialement connu (il fait régulièrement des tournées en Chine)\, réussit\, avec ses performances\, à créer un monde où l’on se surprend à « voir » les êtres et les choses qu’il esquisse avec finesse et humour : des univers aussi attendrissants qu’extravagants où son corps se transforme en à peu près tout. Cet escogriffe au corps élastique\, sorti tout droit d’un Tex Avery\, en appelle à la part de l’enfance en chacun d’entre nous et nous transporte hors du temps avec une sensible légèreté. \n« Cet expert en mime et en bruitages témoigne d’un sacré talent. C’est fin\, drôle\, inventif et même\, parfois poétique. » Le Parisien \n« Une sorte de Buster Keaton… L’humour de ce rocker est une façon de donner à voir l’ordinaire avec (un peu) de hauteur. » Marianne \nDe et avec : Patrik Cottet Moine\nCo-écrit avec : Michel Courtemanche\nMise en scène : Marc Andreini\nMise en lumière : Patricia Jean\nEn compagnie des Zèbres \n\nℹ️ Infos pratiques\n\nTarif plein : 12 €\nTarif  groupe et adhérents : 8 €\nTarif Minima sociaux et étudiants : 4 €\nTarif PASS : 25 € (Un tarif préférentiel pour voir les 3 spectacles du festival)\n-12 ans : Gratuit\n\n👉🏻 Billetterie\n\nEn ligne\nSur place : 1 heure avant le spectacle\nPar téléphone : 06 03 82 45 27\nPar email : contact@artscenicum.fr\n\n👉🏻 Buvette et grignotage sur place\n👉🏻 Chez lui – Billetterie en ligne \n👉🏻 Achetez en ligne votre PASS 3 spectacles
URL:https://www.caprovenceverte.fr/event/chez-lui-festival-les-nuits-du-chateau/
LOCATION:Montfort-sur-Argens\, Montfort-sur-Argens\, 83570\, France
CATEGORIES:À la une,Agenda,Culture
ATTACH;FMTTYPE=image/jpeg:https://www.caprovenceverte.fr/wp-content/uploads/2026/03/affiche_ndc_spectacle26__3-scaled.jpg
END:VEVENT
BEGIN:VEVENT
DTSTART;TZID=Europe/Paris:20260415T100000
DTEND;TZID=Europe/Paris:20270415T120000
DTSTAMP:20260422T011215
CREATED:20260402T072315Z
LAST-MODIFIED:20260402T072315Z
UID:26014-1776247200-1807790400@www.caprovenceverte.fr
SUMMARY:Les mineurs perdus - Une affaire temporelle
DESCRIPTION:Nouveau jeu d’enquête immersif au musée des Gueules Rouges : chaque mercredi des vacances scolaires\, partez sur les traces d’une anomalie temporelle enfouie au cœur des mines de bauxite.\nLe musée des Gueules Rouges propose une animation inédite pour les familles et les groupes : Les Mineurs Perdus\, un jeu d’enquête immersif à mi-chemin entre l’escape game et le jeu de piste. \nUne affaire vieille de plusieurs années refait surface. Quelque part au cours du XXe siècle\, un événement s’est produit dans les mines de bauxite et a perturbé la ligne temporelle. À leur arrivée au musée\, les participants incarnent de nouvelles recrues au service d’une agence temporelle énigmatique. Leur mission : changer le cours du temps pour préserver le futur. \nPour y parvenir\, il faudra résoudre une série d’énigmes pour déchiffrer des indices cryptés\, analyser des archives et élaborer des théories. L’enquête investit l’ensemble du musée et de la mine\, se joue en coopération ou en compétition\, et convient à tous les publics — des familles aux amateurs de challenges. \n📍Les mercredis des vacances scolaires (zone B)\, de 10h à 12h\n👉🏻 Tarif : 8\,50 € par personne — Âge minimum : 6 ans  \n⚠️ Les moins de 18 ans doivent obligatoirement être accompagnés d’un adulte payant.  \n➡️ Réservation obligatoire auprès de l’Office de Tourisme Provence verte et Verdon :  \n📞 04 94 72 04 21 –  📧 contact@provenceverteverdon.fr \n\nℹ️ Musée des Gueules Rouges – Avenue de la Libération – Quartier du Laou – 83170 Tourves \n📞 04 94 86 19 63      📧 mgr@caprovenceverte.fr
URL:https://www.caprovenceverte.fr/event/les-mineurs-perdus-une-affaire-temporelle/
LOCATION:Musée des Gueules Rouges\, Avenue de la Libération\, Tourves\, 83170
CATEGORIES:Agenda,Culture
ATTACH;FMTTYPE=image/png:https://www.caprovenceverte.fr/wp-content/uploads/2026/03/MGR_Mineur-perdu_2026_Affiche-A3_WEB.png
END:VEVENT
BEGIN:VEVENT
DTSTART;TZID=Europe/Paris:20260415T140000
DTEND;TZID=Europe/Paris:20260415T160000
DTSTAMP:20260422T011215
CREATED:20260403T085231Z
LAST-MODIFIED:20260403T085231Z
UID:26022-1776261600-1776268800@www.caprovenceverte.fr
SUMMARY:Atelier créatif L’art de l’enluminure
DESCRIPTION:Les ateliers du Centre d’Art Contemporain de Châteauvert se déplacent dans les médiathèques du réseau et proposent la réalisation de la couverture d’un carnet en s’inspirant du travail de l’artiste Katia Kameli et des enluminures Persanes.\n📍 Mercredi 15 avril à 14h – Médiathèque de Tourves \n👉🏻 Au programme de cet atelier : Expérimentation de la technique de la dorure à la feuille d’or\, réalisation d’enluminures\, et reliure d’un carnet. \n\nDurée : 2h – Limité à 10 participants sur inscription\nRéservation : 04 94 78 76 44\nPublic adultes\, ados\, enfants de 8 ans et plus\n\n⚠️ Atelier qui requiert patience et minutie. \n➡️ Proposés dans le cadre de la programmation culturelle du Réseau des Médiathèques de l’Agglomération Provence verte\, retrouvez toutes les dates des prochains ateliers dans la brochure mise à disposition dans les 16 médiathèques du réseau et les 28 mairies du territoire de la Provence verte.
URL:https://www.caprovenceverte.fr/event/atelier-creatif-lart-de-lenluminure-5/
LOCATION:Tourves
CATEGORIES:À la une,Agenda,Culture
ATTACH;FMTTYPE=image/jpeg:https://www.caprovenceverte.fr/wp-content/uploads/2026/04/Atelier-Enluminure_260415_Tourves_Affiche-A3.jpg
END:VEVENT
BEGIN:VEVENT
DTSTART;TZID=Europe/Paris:20260415T150000
DTEND;TZID=Europe/Paris:20260415T170000
DTSTAMP:20260422T011215
CREATED:20260403T085313Z
LAST-MODIFIED:20260403T085313Z
UID:26028-1776265200-1776272400@www.caprovenceverte.fr
SUMMARY:Atelier artisanal – Sculpture sur bois
DESCRIPTION:Stéphanie Bluche\, artisane du bois\, propose un atelier de sculpture ouvert aux adultes\, adolescents et enfants à partir de 6 ans à la médiathèque de Montfort-sur-Argens.\nAutodidacte passionnée\, Stéphanie Bluche travaille exclusivement à partir de bois de recyclage : branches issues de l’élagage\, chutes provenant de menuisiers ou de particuliers. Formée au tournage sur bois à Aiguines\, elle explore les nombreuses possibilités offertes par la matière — jeux et jouets\, pièces pour l’art de la table\, mais aussi œuvres purement artistiques. \nPour cet atelier\, elle partage sa pratique avec un groupe de 8 participants maximum\, dans un cadre accessible dès 6 ans. \nCet événement s’inscrit dans la programmation culturelle 2026 du réseau des médiathèques de l’Agglomération Provence verte. \n📍 Mercredi 15 avril 2026 à 15h – Médiathèque de Montfort-sur-Argens\n\nLimité à 8 participants sur inscription\nInscription obligatoire auprès de la médiathèque : 04 94 86 53 32\nPublic adultes\, ados\, enfants de 6 ans et plus\n\n➡️ Proposés dans le cadre de la programmation culturelle du Réseau des Médiathèques de l’Agglomération Provence verte\, retrouvez toutes les dates des prochains ateliers dans la brochure mise à disposition dans les 16 médiathèques du réseau et les 28 mairies du territoire de la Provence verte.
URL:https://www.caprovenceverte.fr/event/atelier-artisanal-sculpture-sur-bois/
LOCATION:Montfort-sur-Argens\, Montfort-sur-Argens\, 83570\, France
CATEGORIES:À la une,Agenda,Culture
ATTACH;FMTTYPE=image/jpeg:https://www.caprovenceverte.fr/wp-content/uploads/2026/04/Sculpture_sur_bois_260415_Montfort_Affiche-A3.jpg
END:VEVENT
BEGIN:VEVENT
DTSTART;TZID=Europe/Paris:20260415T150000
DTEND;TZID=Europe/Paris:20260415T170000
DTSTAMP:20260422T011215
CREATED:20260409T115842Z
LAST-MODIFIED:20260409T115842Z
UID:26059-1776265200-1776272400@www.caprovenceverte.fr
SUMMARY:Atelier artisanal – Sculpture sur bois
DESCRIPTION:Stéphanie Bluche\, artisane du bois\, propose un atelier de sculpture ouvert aux adultes\, adolescents et enfants à partir de 6 ans à la médiathèque de Nans-les-Pins.\nAutodidacte passionnée\, Stéphanie Bluche travaille exclusivement à partir de bois de recyclage : branches issues de l’élagage\, chutes provenant de menuisiers ou de particuliers. Formée au tournage sur bois à Aiguines\, elle explore les nombreuses possibilités offertes par la matière — jeux et jouets\, pièces pour l’art de la table\, mais aussi œuvres purement artistiques. \nPour cet atelier\, elle partage sa pratique avec un groupe de 8 participants maximum\, dans un cadre accessible dès 6 ans. \nCet événement s’inscrit dans la programmation culturelle 2026 du réseau des médiathèques de l’Agglomération Provence verte. \n📍 Mercredi 15 avril 2026 à 15h – Médiathèque de Nans-les-Pins\n\nLimité à 8 participants sur inscription\nInscription obligatoire auprès de la médiathèque : 04 94 78 68 49\nPublic adultes\, ados\, enfants de 6 ans et plus\n\n➡️ Proposés dans le cadre de la programmation culturelle du Réseau des Médiathèques de l’Agglomération Provence verte\, retrouvez toutes les dates des prochains ateliers dans la brochure mise à disposition dans les 16 médiathèques du réseau et les 28 mairies du territoire de la Provence verte.
URL:https://www.caprovenceverte.fr/event/atelier-artisanal-sculpture-sur-bois-2/
LOCATION:Nans-les-Pins
CATEGORIES:À la une,Agenda,Culture
ATTACH;FMTTYPE=image/jpeg:https://www.caprovenceverte.fr/wp-content/uploads/2026/04/Sculpture_sur_bois_260424_Nans_Affiche-A3.jpg
END:VEVENT
BEGIN:VEVENT
DTSTART;TZID=Europe/Paris:20260416T143000
DTEND;TZID=Europe/Paris:20260416T163000
DTSTAMP:20260422T011215
CREATED:20260403T085458Z
LAST-MODIFIED:20260403T085458Z
UID:26025-1776349800-1776357000@www.caprovenceverte.fr
SUMMARY:Atelier créatif L’art de l’enluminure
DESCRIPTION:Les ateliers du Centre d’Art Contemporain de Châteauvert se déplacent dans les médiathèques du réseau et proposent la réalisation de la couverture d’un carnet en s’inspirant du travail de l’artiste Katia Kameli et des enluminures Persanes.\n📍 Mercredi 16 avril à 14h30 – Médiathèque de Saint-Maximin-la-Sainte-Baume \n👉🏻 Au programme de cet atelier : Expérimentation de la technique de la dorure à la feuille d’or\, réalisation d’enluminures\, et reliure d’un carnet. \n\nDurée : 2h – Limité à 10 participants sur inscription\nRéservation : 04 94 59 34 04\nPublic adultes\, ados\, enfants de 8 ans et plus\n\n⚠️ Atelier qui requiert patience et minutie. \n➡️ Proposés dans le cadre de la programmation culturelle du Réseau des Médiathèques de l’Agglomération Provence verte\, retrouvez toutes les dates des prochains ateliers dans la brochure mise à disposition dans les 16 médiathèques du réseau et les 28 mairies du territoire de la Provence verte.
URL:https://www.caprovenceverte.fr/event/atelier-creatif-lart-de-lenluminure-6/
LOCATION:Saint-Maximin-la-Sainte-Baume
CATEGORIES:À la une,Agenda,Culture
ATTACH;FMTTYPE=image/jpeg:https://www.caprovenceverte.fr/wp-content/uploads/2026/04/Atelier-Enluminure_260416_st-max_Affiche-A3.jpg
END:VEVENT
BEGIN:VEVENT
DTSTART;TZID=Europe/Paris:20260417T200000
DTEND;TZID=Europe/Paris:20260417T210000
DTSTAMP:20260422T011215
CREATED:20260209T125822Z
LAST-MODIFIED:20260404T074147Z
UID:25820-1776456000-1776459600@www.caprovenceverte.fr
SUMMARY:En crise de la quarantaine – One woman show
DESCRIPTION:Et si vieillir devenait une excellente matière à rire ?Avec En crise de la quarantaine\, Amélie Abrieu livre un one woman show plein d’autodérision\, nourri de petites anecdotes du quotidien. Elle se raconte telle qu’elle est\, avec ses doutes\, ses défauts et beaucoup d’humour\, dans un spectacle à la fois sincère et joyeusement décomplexé.\nDiplômée du Cours Florent\, comédienne et autrice\, Amélie Abrieu est professionnelle du spectacle depuis 2007. Elle est également connue pour son travail au théâtre jeune public et pour le cinéma\, notamment avec le long métrage Été 85. \nUn spectacle drôle et accessible\, à partager en toute simplicité\, proposé dans le cadre de la programmation culturelle 2026 du Réseau des médiathèques de l’Agglomération Provence verte. \n📍 Vendredi 17 avril 2026 à 20h à la salle Beaulieu de Méounes-lès-Montrieux▪️ Durée : 1h▪️ Par Amélie Abrieu – Compagnie Les Bétonneuses▪️ Entrée libre sur inscription – Tout public \nℹ️ Renseignements : 04 94 13 83 36
URL:https://www.caprovenceverte.fr/event/en-crise-de-la-quarantaine-one-woman-show-4/
LOCATION:Méounes-lès-Montrieux\, 83136\, France
CATEGORIES:À la une,Agenda,Culture
ATTACH;FMTTYPE=image/png:https://www.caprovenceverte.fr/wp-content/uploads/2026/02/En-Crise-de-la-40_260417_Meounes_Affiche-A3_WEB.png
END:VEVENT
BEGIN:VEVENT
DTSTART;TZID=Europe/Paris:20260421T140000
DTEND;TZID=Europe/Paris:20260421T160000
DTSTAMP:20260422T011215
CREATED:20260409T115709Z
LAST-MODIFIED:20260409T115709Z
UID:26108-1776780000-1776787200@www.caprovenceverte.fr
SUMMARY:Atelier créatif - L’art de l’enluminure
DESCRIPTION:Les ateliers du Centre d’Art Contemporain de Châteauvert se déplacent dans les médiathèques du réseau et proposent la réalisation de la couverture d’un carnet en s’inspirant du travail de l’artiste Katia Kameli et des enluminures Persanes.\n📍 Mercredi 21 avril à 14h – Médiathèque de Bras\n👉🏻 Au programme de cet atelier : Expérimentation de la technique de la dorure à la feuille d’or\, réalisation d’enluminures\, et reliure d’un carnet. \n\nDurée : 2h – Limité à 10 participants sur inscription\nRéservation : 09 75 23 56 41\nPublic adultes\, ados\, enfants de 8 ans et plus\n\n⚠️ Atelier qui requiert patience et minutie. \n➡️ Proposés dans le cadre de la programmation culturelle du Réseau des Médiathèques de l’Agglomération Provence verte\, retrouvez toutes les dates des prochains ateliers dans la brochure mise à disposition dans les 16 médiathèques du réseau et les 28 mairies du territoire de la Provence verte.
URL:https://www.caprovenceverte.fr/event/atelier-creatif-lart-de-lenluminure-7/
LOCATION:Bras\, 83149\, France
CATEGORIES:À la une,Agenda
ATTACH;FMTTYPE=image/jpeg:https://www.caprovenceverte.fr/wp-content/uploads/2026/04/Atelier-Enluminure_260421_bras_Affiche-A3.jpg
END:VEVENT
BEGIN:VEVENT
DTSTART;TZID=Europe/Paris:20260422T153000
DTEND;TZID=Europe/Paris:20260422T161500
DTSTAMP:20260422T011215
CREATED:20260409T115755Z
LAST-MODIFIED:20260409T115755Z
UID:26049-1776871800-1776874500@www.caprovenceverte.fr
SUMMARY:La Petite Biche Aveugle - Spectacle musical
DESCRIPTION:La Compagnie Zyane investit la médiathèque de Brignoles avec La Petite Biche Aveugle\, un spectacle musical et théâtral pour les jeunes enfants.\nAdaptations musicales et théâtrales d’albums jeunesse et de contes\, ce spectacle emmène une petite biche curieuse et gourmande à la découverte de la forêt vierge. Sa curiosité et sa gourmandise l’entraînent dans un tourbillon d’aventures peuplées de rencontres surprenantes.  \nÀ travers des instruments ethniques et des créations sonores originales\, les deux artistes de la Compagnie Zyane signent une création vivante et poétique\, à la fois ode à la nature et éveil à la différence. \n📍 Mercredi 22 avril 2026 à 15h30 à la médiathèque de Brignoles\n\n👉🏻 Entrée libre sur inscription – Public : enfants de 2/3 à 7/8 ans\n\n\n▪️ Durée : 45 minutes\n\n▪️ Par la Compagnie Zyane\nℹ️ Réservation : 04 94 05 20 55 \n\nUn spectacle adapté aux tout-petits\, proposé dans le cadre de la programmation culturelle 2026 du Réseau des médiathèques de l’Agglomération Provence verte. \n\n\n \n\n\n➡️ La brochure est à retrouver dans les 16 médiathèques du réseau\, et en ligne 👉🏻 https://cutt.ly/VtzTFwNz
URL:https://www.caprovenceverte.fr/event/la-petite-biche-aveugle-spectacle-musical/
LOCATION:Brignoles
CATEGORIES:À la une,Agenda,Culture
ATTACH;FMTTYPE=image/jpeg:https://www.caprovenceverte.fr/wp-content/uploads/2026/04/Biche_260422_Brignoles_Affiche-A3.jpg
END:VEVENT
BEGIN:VEVENT
DTSTART;TZID=Europe/Paris:20260429T100000
DTEND;TZID=Europe/Paris:20260429T120000
DTSTAMP:20260422T011215
CREATED:20260409T120012Z
LAST-MODIFIED:20260409T120012Z
UID:26101-1777456800-1777464000@www.caprovenceverte.fr
SUMMARY:Atelier artisanal – Pulpe de papier
DESCRIPTION:La médiathèque de Bras propose un atelier créatif pour découvrir la pulpe de papier et réaliser un objet unique avec l’artisane Solange Battara.\nArtisane du papier\, Solange Battara explore depuis plusieurs années les possibilités offertes par la pulpe de papier\, le carton et la terre de papier. Elle propose une initiation accessible à tous pour découvrir cette matière et expérimenter différentes techniques de moulage et de modelage. \nAu cours de cet atelier\, les participants seront accompagnés dans la réalisation d’un objet original\, tout en découvrant les étapes de transformation du papier. Un moment de création et d’échange autour d’un savoir-faire artisanal. \n📍 Mercredi 29 avril à 16h30 – Médiathèque de Bras\n\nLimité à 12 participants sur inscription\nRéservation : 09 75 23 56 41\nPublic adultes\, ados\, enfants de 8 ans et plus\n\n➡️ Proposés dans le cadre de la programmation culturelle du Réseau des Médiathèques de l’Agglomération Provence verte\, retrouvez toutes les dates des prochains ateliers dans la brochure mise à disposition dans les 16 médiathèques du réseau et les 28 mairies du territoire de la Provence verte.
URL:https://www.caprovenceverte.fr/event/atelier-artisanal-pulpe-de-papier/
LOCATION:Bras\, 83149\, France
CATEGORIES:À la une,Agenda,Culture
ATTACH;FMTTYPE=image/jpeg:https://www.caprovenceverte.fr/wp-content/uploads/2026/04/Pulpe_260429_Bras_Affiche-A3.jpg
END:VEVENT
BEGIN:VEVENT
DTSTART;TZID=Europe/Paris:20260429T163000
DTEND;TZID=Europe/Paris:20260429T173000
DTSTAMP:20260422T011215
CREATED:20260409T115928Z
LAST-MODIFIED:20260409T115928Z
UID:26104-1777480200-1777483800@www.caprovenceverte.fr
SUMMARY:L'Armoire – Spectacle art théâtral & marionnettes
DESCRIPTION:Loïc Bebel de La Loyal Compagnie investit la médiathèque de Rocbaron avec un spectacle jeune public mêlant théâtre d’improvisation et marionnettes\, autour d’une mystérieuse armoire et des secrets qu’elle dissimule.\nMartin se retrouve seul sur scène\, contraint d’improviser avec le public en attendant l’arrivée des artistes. Mais l’armoire posée là n’est pas une simple armoire : elle est l’antre de secrets bien gardés. Martin libèrera un terrible secret\, et c’est tous ensemble — marionnettes\, enfants et Martin réunis — qu’il faudra trouver la clé pour le renvoyer au fond de son tiroir. \nUn spectacle complice et espiègle\, à partir de 5 ans\, pour explorer cette grande question : qu’est-ce qu’il y a dans l’armoire ? Un cadavre\, un monstre\, un trésor ? L’armoire aux merveilles ou l’armoire aux cauchemars ? \n📍 Mercredi 29 avril 2026 à 16h30 à la médiathèque de Rocbaron▪️ Durée : 50 min▪️ Par Loïc Bebel – La Loyal Compagnie▪️ Entrée libre sur inscription – Tout public à partir de 5 ans \nℹ️ Renseignements : 04 94 72 84 79 \n➡️ Proposés dans le cadre de la programmation culturelle du Réseau des Médiathèques de l’Agglomération Provence verte\, retrouvez toutes les dates des prochains ateliers dans la brochure mise à disposition dans les 16 médiathèques du réseau et les 28 mairies du territoire de la Provence verte.
URL:https://www.caprovenceverte.fr/event/larmoire-spectacle-art-theatral-marionnettes/
LOCATION:Rocbaron\, 83136\, France
CATEGORIES:À la une,Agenda
ATTACH;FMTTYPE=image/jpeg:https://www.caprovenceverte.fr/wp-content/uploads/2026/04/armoire_260429_Rocbaron_Affiche-A3.jpg
END:VEVENT
BEGIN:VEVENT
DTSTART;TZID=Europe/Paris:20260506T100000
DTEND;TZID=Europe/Paris:20260506T120000
DTSTAMP:20260422T011215
CREATED:20260410T084233Z
LAST-MODIFIED:20260410T084233Z
UID:26121-1778061600-1778068800@www.caprovenceverte.fr
SUMMARY:Atelier créatif – L’art de l’enluminure
DESCRIPTION:Les ateliers du Centre d’Art Contemporain de Châteauvert se déplacent dans les médiathèques du réseau et proposent la réalisation de la couverture d’un carnet en s’inspirant du travail de l’artiste Katia Kameli et des enluminures Persanes.\n📍 Mercredi 6 mai à 10h – Médiathèque de Néoules\n👉🏻 Au programme de cet atelier : Expérimentation de la technique de la dorure à la feuille d’or\, réalisation d’enluminures\, et reliure d’un carnet. \n\nDurée : 2h – Limité à 10 participants sur inscription\nRéservation : 09 65 29 52 43\nPublic adultes\, ados\, enfants de 8 ans et plus\n\n⚠️ Atelier qui requiert patience et minutie. \n➡️ Proposés dans le cadre de la programmation culturelle du Réseau des Médiathèques de l’Agglomération Provence verte\, retrouvez toutes les dates des prochains ateliers dans la brochure mise à disposition dans les 16 médiathèques du réseau et les 28 mairies du territoire de la Provence verte.
URL:https://www.caprovenceverte.fr/event/atelier-creatif-lart-de-lenluminure-8/
LOCATION:Médiathèque de Néoules
CATEGORIES:À la une,Agenda
ATTACH;FMTTYPE=image/jpeg:https://www.caprovenceverte.fr/wp-content/uploads/2026/04/Atelier-Enluminure_260506_Neoules_Affiche-A3.jpg
END:VEVENT
END:VCALENDAR