BEGIN:VCALENDAR
VERSION:2.0
PRODID:-//Provence verte - ECPv6.15.20//NONSGML v1.0//EN
CALSCALE:GREGORIAN
METHOD:PUBLISH
X-WR-CALNAME:Provence verte
X-ORIGINAL-URL:https://www.caprovenceverte.fr
X-WR-CALDESC:Évènements pour Provence verte
REFRESH-INTERVAL;VALUE=DURATION:PT1H
X-Robots-Tag:noindex
X-PUBLISHED-TTL:PT1H
BEGIN:VTIMEZONE
TZID:Europe/Paris
BEGIN:DAYLIGHT
TZOFFSETFROM:+0100
TZOFFSETTO:+0200
TZNAME:CEST
DTSTART:20250330T010000
END:DAYLIGHT
BEGIN:STANDARD
TZOFFSETFROM:+0200
TZOFFSETTO:+0100
TZNAME:CET
DTSTART:20251026T010000
END:STANDARD
BEGIN:DAYLIGHT
TZOFFSETFROM:+0100
TZOFFSETTO:+0200
TZNAME:CEST
DTSTART:20260329T010000
END:DAYLIGHT
BEGIN:STANDARD
TZOFFSETFROM:+0200
TZOFFSETTO:+0100
TZNAME:CET
DTSTART:20261025T010000
END:STANDARD
BEGIN:DAYLIGHT
TZOFFSETFROM:+0100
TZOFFSETTO:+0200
TZNAME:CEST
DTSTART:20270328T010000
END:DAYLIGHT
BEGIN:STANDARD
TZOFFSETFROM:+0200
TZOFFSETTO:+0100
TZNAME:CET
DTSTART:20271031T010000
END:STANDARD
BEGIN:DAYLIGHT
TZOFFSETFROM:+0100
TZOFFSETTO:+0200
TZNAME:CEST
DTSTART:20280326T010000
END:DAYLIGHT
BEGIN:STANDARD
TZOFFSETFROM:+0200
TZOFFSETTO:+0100
TZNAME:CET
DTSTART:20281029T010000
END:STANDARD
END:VTIMEZONE
BEGIN:VEVENT
DTSTART;VALUE=DATE:20260214
DTEND;VALUE=DATE:20260615
DTSTAMP:20260421T104401
CREATED:20260122T153555Z
LAST-MODIFIED:20260313T102736Z
UID:25770-1771027200-1781481599@www.caprovenceverte.fr
SUMMARY:Exposition Ce qui nous regarde - Hilario Isola
DESCRIPTION:Ce qui nous regarde – Hilario Isola\n📍 Exposition du 14 février au 14 juin 2026 – Vernissage vendredi 13 février 2026 à 18h\nLe Centre d’art contemporain de Châteauvert de l’Agglomération Provence verte est heureux de présenter l’exposition personnelle de l’artiste italien Hilario Isola\, qui vit et travaille entre Turin et Bagnolo.  \nIntitulée Ce qui nous regarde\, cette exposition réunit pour la première fois un ensemble d’œuvres qui\, mises en regard\, composent une galerie de portraits inédite au sein de sa pratique. Certaines pièces sont issues de séries existantes — I Mani\, I Filosofi\, The Scientists\, Aruspice — tandis que d’autres ont été spécialement conçues pour l’exposition\, en résonance avec le contexte agricole\, naturel et historique de la Provence verte.  \nCe dialogue entre œuvres anciennes et nouvelles révèle une ligne de force souterraine dans le travail de l’artiste : le visage comme seuil\, comme interface sensible entre ce que nous voyons et ce qui nous regarde. \nCommissariat : Véronique Collard-Bovy \nCentre d’Art Contemporain de Châteauvert \n📍 460 chemin de la Réparade – 83670 Châteauvert\n📞 07 81 02 04 66 \n📧 cacc@caprovenceverte.fr \n 
URL:https://www.caprovenceverte.fr/event/exposition-ce-qui-nous-regarde-hilario-isola/
LOCATION:Centre d’art contemporain de Chateauvert\, chemin de la Réparade\, Châteauvert\, 83670
CATEGORIES:Agenda,Culture
ATTACH;FMTTYPE=image/png:https://www.caprovenceverte.fr/wp-content/uploads/2026/01/Ce-qui-nous-regarde_260101_AfficheA3_WEB.png
END:VEVENT
BEGIN:VEVENT
DTSTART;TZID=Europe/Paris:20260415T100000
DTEND;TZID=Europe/Paris:20270415T120000
DTSTAMP:20260421T104401
CREATED:20260402T072315Z
LAST-MODIFIED:20260402T072315Z
UID:26014-1776247200-1807790400@www.caprovenceverte.fr
SUMMARY:Les mineurs perdus - Une affaire temporelle
DESCRIPTION:Nouveau jeu d’enquête immersif au musée des Gueules Rouges : chaque mercredi des vacances scolaires\, partez sur les traces d’une anomalie temporelle enfouie au cœur des mines de bauxite.\nLe musée des Gueules Rouges propose une animation inédite pour les familles et les groupes : Les Mineurs Perdus\, un jeu d’enquête immersif à mi-chemin entre l’escape game et le jeu de piste. \nUne affaire vieille de plusieurs années refait surface. Quelque part au cours du XXe siècle\, un événement s’est produit dans les mines de bauxite et a perturbé la ligne temporelle. À leur arrivée au musée\, les participants incarnent de nouvelles recrues au service d’une agence temporelle énigmatique. Leur mission : changer le cours du temps pour préserver le futur. \nPour y parvenir\, il faudra résoudre une série d’énigmes pour déchiffrer des indices cryptés\, analyser des archives et élaborer des théories. L’enquête investit l’ensemble du musée et de la mine\, se joue en coopération ou en compétition\, et convient à tous les publics — des familles aux amateurs de challenges. \n📍Les mercredis des vacances scolaires (zone B)\, de 10h à 12h\n👉🏻 Tarif : 8\,50 € par personne — Âge minimum : 6 ans  \n⚠️ Les moins de 18 ans doivent obligatoirement être accompagnés d’un adulte payant.  \n➡️ Réservation obligatoire auprès de l’Office de Tourisme Provence verte et Verdon :  \n📞 04 94 72 04 21 –  📧 contact@provenceverteverdon.fr \n\nℹ️ Musée des Gueules Rouges – Avenue de la Libération – Quartier du Laou – 83170 Tourves \n📞 04 94 86 19 63      📧 mgr@caprovenceverte.fr
URL:https://www.caprovenceverte.fr/event/les-mineurs-perdus-une-affaire-temporelle/
LOCATION:Musée des Gueules Rouges\, Avenue de la Libération\, Tourves\, 83170
CATEGORIES:Agenda,Culture
ATTACH;FMTTYPE=image/png:https://www.caprovenceverte.fr/wp-content/uploads/2026/03/MGR_Mineur-perdu_2026_Affiche-A3_WEB.png
END:VEVENT
BEGIN:VEVENT
DTSTART;TZID=Europe/Paris:20260417T200000
DTEND;TZID=Europe/Paris:20260417T210000
DTSTAMP:20260421T104401
CREATED:20260209T125822Z
LAST-MODIFIED:20260404T074147Z
UID:25820-1776456000-1776459600@www.caprovenceverte.fr
SUMMARY:En crise de la quarantaine – One woman show
DESCRIPTION:Et si vieillir devenait une excellente matière à rire ?Avec En crise de la quarantaine\, Amélie Abrieu livre un one woman show plein d’autodérision\, nourri de petites anecdotes du quotidien. Elle se raconte telle qu’elle est\, avec ses doutes\, ses défauts et beaucoup d’humour\, dans un spectacle à la fois sincère et joyeusement décomplexé.\nDiplômée du Cours Florent\, comédienne et autrice\, Amélie Abrieu est professionnelle du spectacle depuis 2007. Elle est également connue pour son travail au théâtre jeune public et pour le cinéma\, notamment avec le long métrage Été 85. \nUn spectacle drôle et accessible\, à partager en toute simplicité\, proposé dans le cadre de la programmation culturelle 2026 du Réseau des médiathèques de l’Agglomération Provence verte. \n📍 Vendredi 17 avril 2026 à 20h à la salle Beaulieu de Méounes-lès-Montrieux▪️ Durée : 1h▪️ Par Amélie Abrieu – Compagnie Les Bétonneuses▪️ Entrée libre sur inscription – Tout public \nℹ️ Renseignements : 04 94 13 83 36
URL:https://www.caprovenceverte.fr/event/en-crise-de-la-quarantaine-one-woman-show-4/
LOCATION:Méounes-lès-Montrieux\, 83136\, France
CATEGORIES:À la une,Agenda,Culture
ATTACH;FMTTYPE=image/png:https://www.caprovenceverte.fr/wp-content/uploads/2026/02/En-Crise-de-la-40_260417_Meounes_Affiche-A3_WEB.png
END:VEVENT
END:VCALENDAR